BEGIN:VCALENDAR
VERSION:2.0
PRODID:-//The Spirit Way Of Life - ECPv5.0.2.1//NONSGML v1.0//EN
CALSCALE:GREGORIAN
METHOD:PUBLISH
X-WR-CALNAME:The Spirit Way Of Life
X-ORIGINAL-URL:https://www.thespiritwayoflife.at
X-WR-CALDESC:Events for The Spirit Way Of Life
BEGIN:VTIMEZONE
TZID:Europe/Vienna
BEGIN:DAYLIGHT
TZOFFSETFROM:+0100
TZOFFSETTO:+0200
TZNAME:CEST
DTSTART:20220327T010000
END:DAYLIGHT
BEGIN:STANDARD
TZOFFSETFROM:+0200
TZOFFSETTO:+0100
TZNAME:CET
DTSTART:20221030T010000
END:STANDARD
END:VTIMEZONE
BEGIN:VEVENT
DTSTART;TZID=Europe/Vienna:20220422T160000
DTEND;TZID=Europe/Vienna:20220424T170000
DTSTAMP:20260421T084813
CREATED:20220303T154748Z
LAST-MODIFIED:20220303T154748Z
UID:2105-1650643200-1650819600@www.thespiritwayoflife.at
SUMMARY:Tasting Days
DESCRIPTION:Tasting Days by Zeughaus Götzis\nWir freuen uns darauf Heuer bei den ertsmalig stattfindenen Tasting Days in Voralrberg mit dabei sein zu dürfen. Am Stand von Top Spirit findet ihr auf insgesamt 16 Meter Standfläche köstliche Abfüllungen aus dem Hause Glenfiddich\, The Balvenie\, The Macallan\, Highland Park\, Bruichladdich\, Glenrothes\, Torabhaig und veon weiteren internationalen Brands. \nVeranstalter Benedikt Fleisch und sein Team gestallten ein unterhaltsames Rahmenprogramm  und ergänzt die Fach- und Publikumsmesse an den 3 Messetagen. Im Rahmen von Masterclasses gibt es zu ausgewählten Themen etwa 60minütige Vorträge und geführte Verkostungen\, die tiefe und spannende Einblicke bringen. Wir freuen uns schon jetzt\, Sie von 22. bis 24. April 2022 mit einem „Slainte math“ begrüßen zu dürfen! \n.fusion-button.button-1 .fusion-button-text\, .fusion-button.button-1 i {color:#ffffff;}.fusion-button.button-1 .fusion-button-icon-divider{border-color:#ffffff;}.fusion-button.button-1:hover .fusion-button-text\, .fusion-button.button-1:hover i\,.fusion-button.button-1:focus .fusion-button-text\, .fusion-button.button-1:focus i\,.fusion-button.button-1:active .fusion-button-text\, .fusion-button.button-1:active{color:#ffffff;}.fusion-button.button-1:hover .fusion-button-icon-divider\, .fusion-button.button-1:hover .fusion-button-icon-divider\, .fusion-button.button-1:active .fusion-button-icon-divider{border-color:#ffffff;}.fusion-button.button-1:hover\, .fusion-button.button-1:focus\, .fusion-button.button-1:active{border-color:#ffffff;}.fusion-button.button-1 {border-color:#ffffff;border-radius:4px;}.fusion-button.button-1{background: #9c1831;}.fusion-button.button-1:hover\,.button-1:focus\,.fusion-button.button-1:active{background: rgba(156\,24\,49\,0.8);}Infos und Tickets\n
URL:https://www.thespiritwayoflife.at/event/tasting-days/
LOCATION:Firmament\, Römergrund 1\, Rankweil\, 6830\, Austria
ATTACH;FMTTYPE=image/png:https://www.thespiritwayoflife.at/wp-content/uploads/2022/03/Tasting-Days.png
END:VEVENT
END:VCALENDAR